BEGIN:VCALENDAR
VERSION:2.0
CALSCALE:GREGORIAN
PRODID:-//Diputació de Barcelona//DibaCMS//EN
BEGIN:VEVENT
UID:22475
DTSTAMP:20260424T184048
DTSTART:20090814T000000
DTEND:20090816T000000
SUMMARY:Castell de la Ventosa Zona A
LOCATION:
METHOD:PUBLISH
X-WR-CALNAME:e-seu@ajpiera.cat
X-WR-TIMEZONE:Europe/Madrid
DESCRIPTION:Castell de la Ventosa Zona A
URI:https://www.viladepiera.cat/actualitat/agenda/22475-castell-de-la-ventosa-zona-a.html
CLASS:PUBLIC
END:VEVENT
END:VCALENDAR
