BEGIN:VCALENDAR
VERSION:2.0
CALSCALE:GREGORIAN
PRODID:-//Diputació de Barcelona//DibaCMS//EN
BEGIN:VEVENT
UID:22478
DTSTAMP:20260424T221109
DTSTART:20090821T220000
DTEND:20090821T000000
SUMMARY:Música a la fresca
LOCATION:
METHOD:PUBLISH
X-WR-CALNAME:e-seu@ajpiera.cat
X-WR-TIMEZONE:Europe/Madrid
DESCRIPTION:Música a la fresca
URI:https://www.viladepiera.cat/actualitat/agenda/musica-a-la-fresca.html
CLASS:PUBLIC
END:VEVENT
END:VCALENDAR
