BEGIN:VCALENDAR
VERSION:2.0
CALSCALE:GREGORIAN
PRODID:-//Diputació de Barcelona//DibaCMS//EN
BEGIN:VEVENT
UID:22479
DTSTAMP:20260425T000640
DTSTART:20090827T000000
DTEND:20090830T000000
SUMMARY:El Bedorc
LOCATION:
METHOD:PUBLISH
X-WR-CALNAME:e-seu@ajpiera.cat
X-WR-TIMEZONE:Europe/Madrid
DESCRIPTION:El Bedorc
URI:https://www.viladepiera.cat/actualitat/agenda/el-bedorc.html
CLASS:PUBLIC
END:VEVENT
END:VCALENDAR
