BEGIN:VCALENDAR
VERSION:2.0
CALSCALE:GREGORIAN
PRODID:-//Diputació de Barcelona//DibaCMS//EN
BEGIN:VEVENT
UID:22480
DTSTAMP:20260424T232341
DTSTART:20090828T000000
DTEND:20090830T000000
SUMMARY:Av. Barcelona-El Serral
LOCATION:
METHOD:PUBLISH
X-WR-CALNAME:e-seu@ajpiera.cat
X-WR-TIMEZONE:Europe/Madrid
DESCRIPTION:Av. Barcelona-El Serral
URI:https://www.viladepiera.cat/actualitat/agenda/av-barcelona-el-serral.html
CLASS:PUBLIC
END:VEVENT
END:VCALENDAR
