BEGIN:VCALENDAR
VERSION:2.0
CALSCALE:GREGORIAN
PRODID:-//Diputació de Barcelona//DibaCMS//EN
BEGIN:VEVENT
UID:22485
DTSTAMP:20260424T204413
DTSTART:20090903T193000
DTEND:20090903T000000
SUMMARY:Xerrada amb Armand de Fluvià
LOCATION:
METHOD:PUBLISH
X-WR-CALNAME:e-seu@ajpiera.cat
X-WR-TIMEZONE:Europe/Madrid
DESCRIPTION:Xerrada amb Armand de Fluvià
URI:https://www.viladepiera.cat/actualitat/agenda/xerrada-amb-armand-de-fluvia.html
CLASS:PUBLIC
END:VEVENT
END:VCALENDAR
