BEGIN:VCALENDAR
VERSION:2.0
CALSCALE:GREGORIAN
PRODID:-//Diputació de Barcelona//DibaCMS//EN
BEGIN:VEVENT
UID:22487
DTSTAMP:20260425T000528
DTSTART:20090904T233000
DTEND:20090904T000000
SUMMARY:Anna Roig i l'Ombre de ton Chien
LOCATION:
METHOD:PUBLISH
X-WR-CALNAME:e-seu@ajpiera.cat
X-WR-TIMEZONE:Europe/Madrid
DESCRIPTION:Anna Roig i l'Ombre de ton Chien
URI:https://www.viladepiera.cat/actualitat/agenda/anna-roig-i-lombre-de-ton-chien.html
CLASS:PUBLIC
END:VEVENT
END:VCALENDAR
