BEGIN:VCALENDAR
VERSION:2.0
CALSCALE:GREGORIAN
PRODID:-//Diputació de Barcelona//DibaCMS//EN
BEGIN:VEVENT
UID:22488
DTSTAMP:20260425T023014
DTSTART:20090904T190000
DTEND:20090904T000000
SUMMARY:Tardes fent punt de creu
LOCATION:
METHOD:PUBLISH
X-WR-CALNAME:e-seu@ajpiera.cat
X-WR-TIMEZONE:Europe/Madrid
DESCRIPTION:Tardes fent punt de creu
URI:https://www.viladepiera.cat/actualitat/agenda/tardes-fent-punt-de-creu.html
CLASS:PUBLIC
END:VEVENT
END:VCALENDAR
