BEGIN:VCALENDAR
VERSION:2.0
CALSCALE:GREGORIAN
PRODID:-//Diputació de Barcelona//DibaCMS//EN
BEGIN:VEVENT
UID:22489
DTSTAMP:20260425T002448
DTSTART:20090905T093000
DTEND:20090905T000000
SUMMARY:Torneig individual de tennis taula
LOCATION:
METHOD:PUBLISH
X-WR-CALNAME:e-seu@ajpiera.cat
X-WR-TIMEZONE:Europe/Madrid
DESCRIPTION:Torneig individual de tennis taula
URI:https://www.viladepiera.cat/actualitat/agenda/torneig-individual-de-tennis-taula.html
CLASS:PUBLIC
END:VEVENT
END:VCALENDAR
