BEGIN:VCALENDAR
VERSION:2.0
CALSCALE:GREGORIAN
PRODID:-//Diputació de Barcelona//DibaCMS//EN
BEGIN:VEVENT
UID:22490
DTSTAMP:20260424T204438
DTSTART:20090905T170000
DTEND:20090905T000000
SUMMARY:Torneig Vila de Piera de Veterans de Futbol
LOCATION:
METHOD:PUBLISH
X-WR-CALNAME:e-seu@ajpiera.cat
X-WR-TIMEZONE:Europe/Madrid
DESCRIPTION:Torneig Vila de Piera de Veterans de Futbol
URI:https://www.viladepiera.cat/actualitat/agenda/22490-torneig-vila-de-piera-de-veterans-de-futbol.html
CLASS:PUBLIC
END:VEVENT
END:VCALENDAR
