BEGIN:VCALENDAR
VERSION:2.0
CALSCALE:GREGORIAN
PRODID:-//Diputació de Barcelona//DibaCMS//EN
BEGIN:VEVENT
UID:22491
DTSTAMP:20260425T045500
DTSTART:20090905T170000
DTEND:20090905T000000
SUMMARY:XXIV Trobada de pubillatge
LOCATION:
METHOD:PUBLISH
X-WR-CALNAME:e-seu@ajpiera.cat
X-WR-TIMEZONE:Europe/Madrid
DESCRIPTION:XXIV Trobada de pubillatge
URI:https://www.viladepiera.cat/actualitat/agenda/xxiv-trobada-de-pubillatge.html
CLASS:PUBLIC
END:VEVENT
END:VCALENDAR
