BEGIN:VCALENDAR
VERSION:2.0
CALSCALE:GREGORIAN
PRODID:-//Diputació de Barcelona//DibaCMS//EN
BEGIN:VEVENT
UID:22495
DTSTAMP:20260424T133934
DTSTART:20090905T190000
DTEND:20090905T000000
SUMMARY:Hereus, pubilles i ballada de gegants
LOCATION:
METHOD:PUBLISH
X-WR-CALNAME:e-seu@ajpiera.cat
X-WR-TIMEZONE:Europe/Madrid
DESCRIPTION:Hereus, pubilles i ballada de gegants
URI:https://www.viladepiera.cat/actualitat/agenda/hereus-pubilles-i-ballada-de-gegants.html
CLASS:PUBLIC
END:VEVENT
END:VCALENDAR
