BEGIN:VCALENDAR
VERSION:2.0
CALSCALE:GREGORIAN
PRODID:-//Diputació de Barcelona//DibaCMS//EN
BEGIN:VEVENT
UID:22497
DTSTAMP:20260424T123314
DTSTART:20090905T210000
DTEND:20090905T000000
SUMMARY:Proclamació pubilla, dama d'honor, hereu i fadrí 09
LOCATION:
METHOD:PUBLISH
X-WR-CALNAME:e-seu@ajpiera.cat
X-WR-TIMEZONE:Europe/Madrid
DESCRIPTION:Proclamació pubilla, dama d'honor, hereu i fadrí 09
URI:https://www.viladepiera.cat/actualitat/agenda/proclamacio-pubilla-dama-dhonor-hereu-i-fadri-09.html
CLASS:PUBLIC
END:VEVENT
END:VCALENDAR
