BEGIN:VCALENDAR
VERSION:2.0
CALSCALE:GREGORIAN
PRODID:-//Diputació de Barcelona//DibaCMS//EN
BEGIN:VEVENT
UID:22498
DTSTAMP:20260424T145229
DTSTART:20090905T220000
DTEND:20090905T000000
SUMMARY:Correfoc i cercavila
LOCATION:
METHOD:PUBLISH
X-WR-CALNAME:e-seu@ajpiera.cat
X-WR-TIMEZONE:Europe/Madrid
DESCRIPTION:Correfoc i cercavila
URI:https://www.viladepiera.cat/actualitat/agenda/correfoc-i-cercavila.html
CLASS:PUBLIC
END:VEVENT
END:VCALENDAR
