BEGIN:VCALENDAR
VERSION:2.0
CALSCALE:GREGORIAN
PRODID:-//Diputació de Barcelona//DibaCMS//EN
BEGIN:VEVENT
UID:22499
DTSTAMP:20260424T183423
DTSTART:20090905T235500
DTEND:20090905T000000
SUMMARY:Ball popular
LOCATION:
METHOD:PUBLISH
X-WR-CALNAME:e-seu@ajpiera.cat
X-WR-TIMEZONE:Europe/Madrid
DESCRIPTION:Ball popular
URI:https://www.viladepiera.cat/actualitat/agenda/ball-popular.html
CLASS:PUBLIC
END:VEVENT
END:VCALENDAR
