BEGIN:VCALENDAR
VERSION:2.0
CALSCALE:GREGORIAN
PRODID:-//Diputació de Barcelona//DibaCMS//EN
BEGIN:VEVENT
UID:22500
DTSTAMP:20260424T160124
DTSTART:20090906T110000
DTEND:20090906T190000
SUMMARY:Activitats per a infants i joves
LOCATION:
METHOD:PUBLISH
X-WR-CALNAME:e-seu@ajpiera.cat
X-WR-TIMEZONE:Europe/Madrid
DESCRIPTION:Activitats per a infants i joves
URI:https://www.viladepiera.cat/actualitat/agenda/activitats-per-a-infants-i-joves.html
CLASS:PUBLIC
END:VEVENT
END:VCALENDAR
