BEGIN:VCALENDAR
VERSION:2.0
CALSCALE:GREGORIAN
PRODID:-//Diputació de Barcelona//DibaCMS//EN
BEGIN:VEVENT
UID:22501
DTSTAMP:20260424T155957
DTSTART:20090906T120000
DTEND:20090906T000000
SUMMARY:Sorteig obres XXXIV Concurs Teatre
LOCATION:
METHOD:PUBLISH
X-WR-CALNAME:e-seu@ajpiera.cat
X-WR-TIMEZONE:Europe/Madrid
DESCRIPTION:Sorteig obres XXXIV Concurs Teatre
URI:https://www.viladepiera.cat/actualitat/agenda/sorteig-obres-xxxiv-concurs-teatre.html
CLASS:PUBLIC
END:VEVENT
END:VCALENDAR
