BEGIN:VCALENDAR
VERSION:2.0
CALSCALE:GREGORIAN
PRODID:-//Diputació de Barcelona//DibaCMS//EN
BEGIN:VEVENT
UID:22502
DTSTAMP:20260424T145845
DTSTART:20090906T200000
DTEND:20090906T000000
SUMMARY:Ball per a joves i grans
LOCATION:
METHOD:PUBLISH
X-WR-CALNAME:e-seu@ajpiera.cat
X-WR-TIMEZONE:Europe/Madrid
DESCRIPTION:Ball per a joves i grans
URI:https://www.viladepiera.cat/actualitat/agenda/ball-per-a-joves-i-grans.html
CLASS:PUBLIC
END:VEVENT
END:VCALENDAR
