BEGIN:VCALENDAR
VERSION:2.0
CALSCALE:GREGORIAN
PRODID:-//Diputació de Barcelona//DibaCMS//EN
BEGIN:VEVENT
UID:22503
DTSTAMP:20260424T143850
DTSTART:20090906T220000
DTEND:20090906T000000
SUMMARY:Xou de varietats a la fresca
LOCATION:
METHOD:PUBLISH
X-WR-CALNAME:e-seu@ajpiera.cat
X-WR-TIMEZONE:Europe/Madrid
DESCRIPTION:Xou de varietats a la fresca
URI:https://www.viladepiera.cat/actualitat/agenda/xou-de-varietats-a-la-fresca.html
CLASS:PUBLIC
END:VEVENT
END:VCALENDAR
