BEGIN:VCALENDAR
VERSION:2.0
CALSCALE:GREGORIAN
PRODID:-//Diputació de Barcelona//DibaCMS//EN
BEGIN:VEVENT
UID:22504
DTSTAMP:20260424T150018
DTSTART:20090906T190000
DTEND:20090906T000000
SUMMARY:Balls de saló
LOCATION:
METHOD:PUBLISH
X-WR-CALNAME:e-seu@ajpiera.cat
X-WR-TIMEZONE:Europe/Madrid
DESCRIPTION:Balls de saló
URI:https://www.viladepiera.cat/actualitat/agenda/balls-de-salo.html
CLASS:PUBLIC
END:VEVENT
END:VCALENDAR
