BEGIN:VCALENDAR
VERSION:2.0
CALSCALE:GREGORIAN
PRODID:-//Diputació de Barcelona//DibaCMS//EN
BEGIN:VEVENT
UID:22506
DTSTAMP:20260424T171906
DTSTART:20090907T173000
DTEND:20090907T190000
SUMMARY:Dansant per la vida (Festa Espai Entitats)
LOCATION:
METHOD:PUBLISH
X-WR-CALNAME:e-seu@ajpiera.cat
X-WR-TIMEZONE:Europe/Madrid
DESCRIPTION:Dansant per la vida (Festa Espai Entitats)
URI:https://www.viladepiera.cat/actualitat/agenda/dansant-per-la-vida-festa-espai-entitats.html
CLASS:PUBLIC
END:VEVENT
END:VCALENDAR
