BEGIN:VCALENDAR
VERSION:2.0
CALSCALE:GREGORIAN
PRODID:-//Diputació de Barcelona//DibaCMS//EN
BEGIN:VEVENT
UID:22507
DTSTAMP:20260424T113144
DTSTART:20090907T190000
DTEND:20090907T200000
SUMMARY:Xocolatada (Festa Espai d'Entitats)
LOCATION:
METHOD:PUBLISH
X-WR-CALNAME:e-seu@ajpiera.cat
X-WR-TIMEZONE:Europe/Madrid
DESCRIPTION:Xocolatada (Festa Espai d'Entitats)
URI:https://www.viladepiera.cat/actualitat/agenda/xocolatada-festa-espai-dentitats.html
CLASS:PUBLIC
END:VEVENT
END:VCALENDAR
