BEGIN:VCALENDAR
VERSION:2.0
CALSCALE:GREGORIAN
PRODID:-//Diputació de Barcelona//DibaCMS//EN
BEGIN:VEVENT
UID:22508
DTSTAMP:20260424T113033
DTSTART:20090907T213000
DTEND:20090907T000000
SUMMARY:Botifarrada (Festa Espai d'Entitats)
LOCATION:
METHOD:PUBLISH
X-WR-CALNAME:e-seu@ajpiera.cat
X-WR-TIMEZONE:Europe/Madrid
DESCRIPTION:Botifarrada (Festa Espai d'Entitats)
URI:https://www.viladepiera.cat/actualitat/agenda/botifarrada-festa-espai-dentitats.html
CLASS:PUBLIC
END:VEVENT
END:VCALENDAR
