BEGIN:VCALENDAR
VERSION:2.0
CALSCALE:GREGORIAN
PRODID:-//Diputació de Barcelona//DibaCMS//EN
BEGIN:VEVENT
UID:22509
DTSTAMP:20260424T215151
DTSTART:20090907T230000
DTEND:20090907T000000
SUMMARY:Pastorets Rock (Festa Espai d'Entitats)
LOCATION:
METHOD:PUBLISH
X-WR-CALNAME:e-seu@ajpiera.cat
X-WR-TIMEZONE:Europe/Madrid
DESCRIPTION:Pastorets Rock (Festa Espai d'Entitats)
URI:https://www.viladepiera.cat/actualitat/agenda/pastorets-rock-festa-espai-dentitats.html
CLASS:PUBLIC
END:VEVENT
END:VCALENDAR
