BEGIN:VCALENDAR
VERSION:2.0
CALSCALE:GREGORIAN
PRODID:-//Diputació de Barcelona//DibaCMS//EN
BEGIN:VEVENT
UID:22510
DTSTAMP:20260424T123621
DTSTART:20090908T111500
DTEND:20090908T000000
SUMMARY:Ofici religiós solemne
LOCATION:
METHOD:PUBLISH
X-WR-CALNAME:e-seu@ajpiera.cat
X-WR-TIMEZONE:Europe/Madrid
DESCRIPTION:Ofici religiós solemne
URI:https://www.viladepiera.cat/actualitat/agenda/ofici-religios-solemne.html
CLASS:PUBLIC
END:VEVENT
END:VCALENDAR
