BEGIN:VCALENDAR
VERSION:2.0
CALSCALE:GREGORIAN
PRODID:-//Diputació de Barcelona//DibaCMS//EN
BEGIN:VEVENT
UID:22513
DTSTAMP:20260424T111254
DTSTART:20090908T200000
DTEND:20090908T000000
SUMMARY:Ball de vetlla
LOCATION:
METHOD:PUBLISH
X-WR-CALNAME:e-seu@ajpiera.cat
X-WR-TIMEZONE:Europe/Madrid
DESCRIPTION:Ball de vetlla
URI:https://www.viladepiera.cat/actualitat/agenda/ball-de-vetlla.html
CLASS:PUBLIC
END:VEVENT
END:VCALENDAR
