BEGIN:VCALENDAR
VERSION:2.0
CALSCALE:GREGORIAN
PRODID:-//Diputació de Barcelona//DibaCMS//EN
BEGIN:VEVENT
UID:22514
DTSTAMP:20260424T124025
DTSTART:20090908T210000
DTEND:20090908T000000
SUMMARY:Concert de generació OT (Chipper i G. Martín)
LOCATION:
METHOD:PUBLISH
X-WR-CALNAME:e-seu@ajpiera.cat
X-WR-TIMEZONE:Europe/Madrid
DESCRIPTION:Concert de generació OT (Chipper i G. Martín)
URI:https://www.viladepiera.cat/actualitat/agenda/concert-de-generacio-ot-chipper-i-g-martin.html
CLASS:PUBLIC
END:VEVENT
END:VCALENDAR
