BEGIN:VCALENDAR
VERSION:2.0
CALSCALE:GREGORIAN
PRODID:-//Diputació de Barcelona//DibaCMS//EN
BEGIN:VEVENT
UID:22516
DTSTAMP:20260424T110019
DTSTART:20090910T203000
DTEND:20090910T000000
SUMMARY:Dansa del ventre
LOCATION:
METHOD:PUBLISH
X-WR-CALNAME:e-seu@ajpiera.cat
X-WR-TIMEZONE:Europe/Madrid
DESCRIPTION:Dansa del ventre
URI:https://www.viladepiera.cat/actualitat/agenda/dansa-del-ventre.html
CLASS:PUBLIC
END:VEVENT
END:VCALENDAR
