BEGIN:VCALENDAR
VERSION:2.0
CALSCALE:GREGORIAN
PRODID:-//Diputació de Barcelona//DibaCMS//EN
BEGIN:VEVENT
UID:22519
DTSTAMP:20260424T102639
DTSTART:20090911T000000
DTEND:20090911T000000
SUMMARY:Diada Nacional Catalunya
LOCATION:
METHOD:PUBLISH
X-WR-CALNAME:e-seu@ajpiera.cat
X-WR-TIMEZONE:Europe/Madrid
DESCRIPTION:Diada Nacional Catalunya
URI:https://www.viladepiera.cat/actualitat/agenda/diada-nacional-catalunya.html
CLASS:PUBLIC
END:VEVENT
END:VCALENDAR
