BEGIN:VCALENDAR
VERSION:2.0
CALSCALE:GREGORIAN
PRODID:-//Diputació de Barcelona//DibaCMS//EN
BEGIN:VEVENT
UID:22521
DTSTAMP:20260424T101248
DTSTART:20090911T114500
DTEND:20090911T000000
SUMMARY:Homenatge a Rafael Casanova
LOCATION:
METHOD:PUBLISH
X-WR-CALNAME:e-seu@ajpiera.cat
X-WR-TIMEZONE:Europe/Madrid
DESCRIPTION:Homenatge a Rafael Casanova
URI:https://www.viladepiera.cat/actualitat/agenda/homenatge-a-rafael-casanova.html
CLASS:PUBLIC
END:VEVENT
END:VCALENDAR
