BEGIN:VCALENDAR
VERSION:2.0
CALSCALE:GREGORIAN
PRODID:-//Diputació de Barcelona//DibaCMS//EN
BEGIN:VEVENT
UID:22522
DTSTAMP:20260424T110607
DTSTART:20090911T130000
DTEND:20090911T000000
SUMMARY:Concert-vermut
LOCATION:
METHOD:PUBLISH
X-WR-CALNAME:e-seu@ajpiera.cat
X-WR-TIMEZONE:Europe/Madrid
DESCRIPTION:Concert-vermut
URI:https://www.viladepiera.cat/actualitat/agenda/22522-concert-vermut.html
CLASS:PUBLIC
END:VEVENT
END:VCALENDAR
