BEGIN:VCALENDAR
VERSION:2.0
CALSCALE:GREGORIAN
PRODID:-//Diputació de Barcelona//DibaCMS//EN
BEGIN:VEVENT
UID:22523
DTSTAMP:20260424T101411
DTSTART:20090911T143000
DTEND:20090911T000000
SUMMARY:Dinar de germanor
LOCATION:
METHOD:PUBLISH
X-WR-CALNAME:e-seu@ajpiera.cat
X-WR-TIMEZONE:Europe/Madrid
DESCRIPTION:Dinar de germanor
URI:https://www.viladepiera.cat/actualitat/agenda/22523-dinar-de-germanor.html
CLASS:PUBLIC
END:VEVENT
END:VCALENDAR
