BEGIN:VCALENDAR
VERSION:2.0
CALSCALE:GREGORIAN
PRODID:-//Diputació de Barcelona//DibaCMS//EN
BEGIN:VEVENT
UID:22528
DTSTAMP:20260424T100617
DTSTART:20090911T090000
DTEND:20090911T000000
SUMMARY:Pujada de la senyera a les Ginebres
LOCATION:
METHOD:PUBLISH
X-WR-CALNAME:e-seu@ajpiera.cat
X-WR-TIMEZONE:Europe/Madrid
DESCRIPTION:Pujada de la senyera a les Ginebres
URI:https://www.viladepiera.cat/actualitat/agenda/pujada-de-la-senyera-a-les-ginebres.html
CLASS:PUBLIC
END:VEVENT
END:VCALENDAR
