BEGIN:VCALENDAR
VERSION:2.0
CALSCALE:GREGORIAN
PRODID:-//Diputació de Barcelona//DibaCMS//EN
BEGIN:VEVENT
UID:22529
DTSTAMP:20260424T110858
DTSTART:20090911T110000
DTEND:20090911T000000
SUMMARY:Pujada de la senyera al Figuerot
LOCATION:
METHOD:PUBLISH
X-WR-CALNAME:e-seu@ajpiera.cat
X-WR-TIMEZONE:Europe/Madrid
DESCRIPTION:Pujada de la senyera al Figuerot
URI:https://www.viladepiera.cat/actualitat/agenda/pujada-de-la-senyera-al-figuerot.html
CLASS:PUBLIC
END:VEVENT
END:VCALENDAR
