BEGIN:VCALENDAR
VERSION:2.0
CALSCALE:GREGORIAN
PRODID:-//Diputació de Barcelona//DibaCMS//EN
BEGIN:VEVENT
UID:22531
DTSTAMP:20260424T125002
DTSTART:20090912T190000
DTEND:20090912T000000
SUMMARY:Animació de carrer
LOCATION:
METHOD:PUBLISH
X-WR-CALNAME:e-seu@ajpiera.cat
X-WR-TIMEZONE:Europe/Madrid
DESCRIPTION:Animació de carrer
URI:https://www.viladepiera.cat/actualitat/agenda/animacio-de-carrer.html
CLASS:PUBLIC
END:VEVENT
END:VCALENDAR
