BEGIN:VCALENDAR
VERSION:2.0
CALSCALE:GREGORIAN
PRODID:-//Diputació de Barcelona//DibaCMS//EN
BEGIN:VEVENT
UID:22532
DTSTAMP:20260424T134717
DTSTART:20090912T200000
DTEND:20090912T000000
SUMMARY:Sevillanes
LOCATION:
METHOD:PUBLISH
X-WR-CALNAME:e-seu@ajpiera.cat
X-WR-TIMEZONE:Europe/Madrid
DESCRIPTION:Sevillanes
URI:https://www.viladepiera.cat/actualitat/agenda/sevillanes.html
CLASS:PUBLIC
END:VEVENT
END:VCALENDAR
