BEGIN:VCALENDAR
VERSION:2.0
CALSCALE:GREGORIAN
PRODID:-//Diputació de Barcelona//DibaCMS//EN
BEGIN:VEVENT
UID:22533
DTSTAMP:20260424T103916
DTSTART:20090912T220000
DTEND:20090912T000000
SUMMARY:Correfoc
LOCATION:
METHOD:PUBLISH
X-WR-CALNAME:e-seu@ajpiera.cat
X-WR-TIMEZONE:Europe/Madrid
DESCRIPTION:Correfoc
URI:https://www.viladepiera.cat/actualitat/agenda/22533-correfoc.html
CLASS:PUBLIC
END:VEVENT
END:VCALENDAR
