BEGIN:VCALENDAR
VERSION:2.0
CALSCALE:GREGORIAN
PRODID:-//Diputació de Barcelona//DibaCMS//EN
BEGIN:VEVENT
UID:22534
DTSTAMP:20260424T225411
DTSTART:20090912T233000
DTEND:20090912T000000
SUMMARY:Ball
LOCATION:
METHOD:PUBLISH
X-WR-CALNAME:e-seu@ajpiera.cat
X-WR-TIMEZONE:Europe/Madrid
DESCRIPTION:Ball
URI:https://www.viladepiera.cat/actualitat/agenda/22534-ball.html
CLASS:PUBLIC
END:VEVENT
END:VCALENDAR
