BEGIN:VCALENDAR
VERSION:2.0
CALSCALE:GREGORIAN
PRODID:-//Diputació de Barcelona//DibaCMS//EN
BEGIN:VEVENT
UID:22535
DTSTAMP:20260424T105926
DTSTART:20090912T170000
DTEND:20090912T000000
SUMMARY:Presentació de categories de l'HC Piera
LOCATION:
METHOD:PUBLISH
X-WR-CALNAME:e-seu@ajpiera.cat
X-WR-TIMEZONE:Europe/Madrid
DESCRIPTION:Presentació de categories de l'HC Piera
URI:https://www.viladepiera.cat/actualitat/agenda/presentacio-de-categories-de-lhc-piera.html
CLASS:PUBLIC
END:VEVENT
END:VCALENDAR
