BEGIN:VCALENDAR
VERSION:2.0
CALSCALE:GREGORIAN
PRODID:-//Diputació de Barcelona//DibaCMS//EN
BEGIN:VEVENT
UID:22536
DTSTAMP:20260424T123547
DTSTART:20090913T110000
DTEND:20090913T000000
SUMMARY:Exhibició de natació sincronitzada
LOCATION:
METHOD:PUBLISH
X-WR-CALNAME:e-seu@ajpiera.cat
X-WR-TIMEZONE:Europe/Madrid
DESCRIPTION:Exhibició de natació sincronitzada
URI:https://www.viladepiera.cat/actualitat/agenda/22536-exhibicio-de-natacio-sincronitzada.html
CLASS:PUBLIC
END:VEVENT
END:VCALENDAR
