BEGIN:VCALENDAR
VERSION:2.0
CALSCALE:GREGORIAN
PRODID:-//Diputació de Barcelona//DibaCMS//EN
BEGIN:VEVENT
UID:22537
DTSTAMP:20260424T104419
DTSTART:20090913T190000
DTEND:20090913T000000
SUMMARY:Teatre: Les amistats perilloses
LOCATION:
METHOD:PUBLISH
X-WR-CALNAME:e-seu@ajpiera.cat
X-WR-TIMEZONE:Europe/Madrid
DESCRIPTION:Teatre: Les amistats perilloses
URI:https://www.viladepiera.cat/actualitat/agenda/teatre-les-amistats-perilloses.html
CLASS:PUBLIC
END:VEVENT
END:VCALENDAR
