BEGIN:VCALENDAR
VERSION:2.0
CALSCALE:GREGORIAN
PRODID:-//Diputació de Barcelona//DibaCMS//EN
BEGIN:VEVENT
UID:22547
DTSTAMP:20260424T141255
DTSTART:20090927T100000
DTEND:20090927T000000
SUMMARY:Excursió guiada al Castell de Fang
LOCATION:
METHOD:PUBLISH
X-WR-CALNAME:e-seu@ajpiera.cat
X-WR-TIMEZONE:Europe/Madrid
DESCRIPTION:Excursió guiada al Castell de Fang
URI:https://www.viladepiera.cat/actualitat/agenda/22547-excursio-guiada-al-castell-de-fang.html
CLASS:PUBLIC
END:VEVENT
END:VCALENDAR
