BEGIN:VCALENDAR
VERSION:2.0
CALSCALE:GREGORIAN
PRODID:-//Diputació de Barcelona//DibaCMS//EN
BEGIN:VEVENT
UID:22549
DTSTAMP:20260424T141537
DTSTART:20090927T193000
DTEND:20090927T000000
SUMMARY:Ball al Foment
LOCATION:
METHOD:PUBLISH
X-WR-CALNAME:e-seu@ajpiera.cat
X-WR-TIMEZONE:Europe/Madrid
DESCRIPTION:Ball al Foment
URI:https://www.viladepiera.cat/actualitat/agenda/22549-ball-al-foment.html
CLASS:PUBLIC
END:VEVENT
END:VCALENDAR
