BEGIN:VCALENDAR
VERSION:2.0
CALSCALE:GREGORIAN
PRODID:-//Diputació de Barcelona//DibaCMS//EN
BEGIN:VEVENT
UID:22551
DTSTAMP:20260424T140636
DTSTART:20090928T000000
DTEND:20090928T000000
SUMMARY:Sessió informativa
LOCATION:
METHOD:PUBLISH
X-WR-CALNAME:e-seu@ajpiera.cat
X-WR-TIMEZONE:Europe/Madrid
DESCRIPTION:Sessió informativa
URI:https://www.viladepiera.cat/actualitat/agenda/22551-sessio-informativa.html
CLASS:PUBLIC
END:VEVENT
END:VCALENDAR
