BEGIN:VCALENDAR
VERSION:2.0
CALSCALE:GREGORIAN
PRODID:-//Diputació de Barcelona//DibaCMS//EN
BEGIN:VEVENT
UID:22554
DTSTAMP:20260424T163409
DTSTART:20090930T210000
DTEND:20090930T000000
SUMMARY:Ple Ordinari 30.9.09
LOCATION:
METHOD:PUBLISH
X-WR-CALNAME:e-seu@ajpiera.cat
X-WR-TIMEZONE:Europe/Madrid
DESCRIPTION:Ple Ordinari 30.9.09
URI:https://www.viladepiera.cat/actualitat/agenda/ple-ordinari-30909.html
CLASS:PUBLIC
END:VEVENT
END:VCALENDAR
