BEGIN:VCALENDAR
VERSION:2.0
CALSCALE:GREGORIAN
PRODID:-//Diputació de Barcelona//DibaCMS//EN
BEGIN:VEVENT
UID:22556
DTSTAMP:20260424T115122
DTSTART:20091001T200000
DTEND:20091001T000000
SUMMARY:Lectura poètica
LOCATION:
METHOD:PUBLISH
X-WR-CALNAME:e-seu@ajpiera.cat
X-WR-TIMEZONE:Europe/Madrid
DESCRIPTION:Lectura poètica
URI:https://www.viladepiera.cat/actualitat/agenda/22556-lectura-poetica.html
CLASS:PUBLIC
END:VEVENT
END:VCALENDAR
