BEGIN:VCALENDAR
VERSION:2.0
CALSCALE:GREGORIAN
PRODID:-//Diputació de Barcelona//DibaCMS//EN
BEGIN:VEVENT
UID:22562
DTSTAMP:20260424T110654
DTSTART:20091003T100000
DTEND:20091003T120000
SUMMARY:Vine a patinar
LOCATION:
METHOD:PUBLISH
X-WR-CALNAME:e-seu@ajpiera.cat
X-WR-TIMEZONE:Europe/Madrid
DESCRIPTION:Vine a patinar
URI:https://www.viladepiera.cat/actualitat/agenda/vine-a-patinar.html
CLASS:PUBLIC
END:VEVENT
END:VCALENDAR
