BEGIN:VCALENDAR
VERSION:2.0
CALSCALE:GREGORIAN
PRODID:-//Diputació de Barcelona//DibaCMS//EN
BEGIN:VEVENT
UID:22569
DTSTAMP:20260424T104653
DTSTART:20091007T000000
DTEND:20091007T000000
SUMMARY:Sessió informativa
LOCATION:
METHOD:PUBLISH
X-WR-CALNAME:e-seu@ajpiera.cat
X-WR-TIMEZONE:Europe/Madrid
DESCRIPTION:Sessió informativa
URI:https://www.viladepiera.cat/actualitat/agenda/22569-sessio-informativa.html
CLASS:PUBLIC
END:VEVENT
END:VCALENDAR
