BEGIN:VCALENDAR
VERSION:2.0
CALSCALE:GREGORIAN
PRODID:-//Diputació de Barcelona//DibaCMS//EN
BEGIN:VEVENT
UID:22570
DTSTAMP:20260424T164638
DTSTART:20091009T090000
DTEND:20091009T130000
SUMMARY:Gestió del DNI a Piera
LOCATION:
METHOD:PUBLISH
X-WR-CALNAME:e-seu@ajpiera.cat
X-WR-TIMEZONE:Europe/Madrid
DESCRIPTION:Gestió del DNI a Piera
URI:https://www.viladepiera.cat/actualitat/agenda/gestio-del-dni-a-piera.html
CLASS:PUBLIC
END:VEVENT
END:VCALENDAR
