BEGIN:VCALENDAR
VERSION:2.0
CALSCALE:GREGORIAN
PRODID:-//Diputació de Barcelona//DibaCMS//EN
BEGIN:VEVENT
UID:22573
DTSTAMP:20260424T113108
DTSTART:20091011T183000
DTEND:20091011T000000
SUMMARY:1492: la conquista del paraíso
LOCATION:
METHOD:PUBLISH
X-WR-CALNAME:e-seu@ajpiera.cat
X-WR-TIMEZONE:Europe/Madrid
DESCRIPTION:1492: la conquista del paraíso
URI:https://www.viladepiera.cat/actualitat/agenda/1492-la-conquista-del-paraiso.html
CLASS:PUBLIC
END:VEVENT
END:VCALENDAR
