BEGIN:VCALENDAR
VERSION:2.0
CALSCALE:GREGORIAN
PRODID:-//Diputació de Barcelona//DibaCMS//EN
BEGIN:VEVENT
UID:22575
DTSTAMP:20260424T160011
DTSTART:20091012T143000
DTEND:20091012T000000
SUMMARY:62a Festa de la Gent Gran 
LOCATION:
METHOD:PUBLISH
X-WR-CALNAME:e-seu@ajpiera.cat
X-WR-TIMEZONE:Europe/Madrid
DESCRIPTION:62a Festa de la Gent Gran 
URI:https://www.viladepiera.cat/actualitat/agenda/22575-62a-festa-de-la-gent-gran-.html
CLASS:PUBLIC
END:VEVENT
END:VCALENDAR
